BEGIN:VCALENDAR
VERSION:2.0
PRODID:-//Olivia Area Chamber of Commerce - ECPv6.15.20//NONSGML v1.0//EN
CALSCALE:GREGORIAN
METHOD:PUBLISH
X-ORIGINAL-URL:https://oliviachamber.org
X-WR-CALDESC:Events for Olivia Area Chamber of Commerce
REFRESH-INTERVAL;VALUE=DURATION:PT1H
X-Robots-Tag:noindex
X-PUBLISHED-TTL:PT1H
BEGIN:VTIMEZONE
TZID:America/Chicago
BEGIN:DAYLIGHT
TZOFFSETFROM:-0600
TZOFFSETTO:-0500
TZNAME:CDT
DTSTART:20220313T080000
END:DAYLIGHT
BEGIN:STANDARD
TZOFFSETFROM:-0500
TZOFFSETTO:-0600
TZNAME:CST
DTSTART:20221106T070000
END:STANDARD
BEGIN:DAYLIGHT
TZOFFSETFROM:-0600
TZOFFSETTO:-0500
TZNAME:CDT
DTSTART:20230312T080000
END:DAYLIGHT
BEGIN:STANDARD
TZOFFSETFROM:-0500
TZOFFSETTO:-0600
TZNAME:CST
DTSTART:20231105T070000
END:STANDARD
BEGIN:DAYLIGHT
TZOFFSETFROM:-0600
TZOFFSETTO:-0500
TZNAME:CDT
DTSTART:20240310T080000
END:DAYLIGHT
BEGIN:STANDARD
TZOFFSETFROM:-0500
TZOFFSETTO:-0600
TZNAME:CST
DTSTART:20241103T070000
END:STANDARD
END:VTIMEZONE
BEGIN:VEVENT
DTSTART;TZID=America/Chicago:20230901T150000
DTEND;TZID=America/Chicago:20230901T153000
DTSTAMP:20260421T044511
CREATED:20230830T162232Z
LAST-MODIFIED:20230830T162232Z
UID:10000082-1693580400-1693582200@oliviachamber.org
SUMMARY:Olivia Corncade Ribbon Cutting Friday\, September 1st\, 3PM
DESCRIPTION:All are welcome to join us on Friday\, September 1st at 3 pm to celebrate the Olivia Corncade.
URL:https://oliviachamber.org/event/olivia-corncade-ribbon-cutting-friday-september-1st-3pm/
LOCATION:Olivia Corncade\, 102 9th Street South\, Olivia\, MN\, 56277
ATTACH;FMTTYPE=image/jpeg:https://oliviachamber.org/wp-content/uploads/2023/08/364732085_254371040686727_9131005280991654969_n.jpg
END:VEVENT
END:VCALENDAR